BEGIN:VCALENDAR
VERSION:2.0
PRODID:-//Supervisor Lindsey P. Horvath - ECPv6.15.20//NONSGML v1.0//EN
CALSCALE:GREGORIAN
METHOD:PUBLISH
X-ORIGINAL-URL:https://lindseyhorvath.lacounty.gov
X-WR-CALDESC:Events for Supervisor Lindsey P. Horvath
REFRESH-INTERVAL;VALUE=DURATION:PT1H
X-Robots-Tag:noindex
X-PUBLISHED-TTL:PT1H
BEGIN:VTIMEZONE
TZID:America/Los_Angeles
BEGIN:DAYLIGHT
TZOFFSETFROM:-0800
TZOFFSETTO:-0700
TZNAME:PDT
DTSTART:20240310T100000
END:DAYLIGHT
BEGIN:STANDARD
TZOFFSETFROM:-0700
TZOFFSETTO:-0800
TZNAME:PST
DTSTART:20241103T090000
END:STANDARD
BEGIN:DAYLIGHT
TZOFFSETFROM:-0800
TZOFFSETTO:-0700
TZNAME:PDT
DTSTART:20250309T100000
END:DAYLIGHT
BEGIN:STANDARD
TZOFFSETFROM:-0700
TZOFFSETTO:-0800
TZNAME:PST
DTSTART:20251102T090000
END:STANDARD
BEGIN:DAYLIGHT
TZOFFSETFROM:-0800
TZOFFSETTO:-0700
TZNAME:PDT
DTSTART:20260308T100000
END:DAYLIGHT
BEGIN:STANDARD
TZOFFSETFROM:-0700
TZOFFSETTO:-0800
TZNAME:PST
DTSTART:20261101T090000
END:STANDARD
BEGIN:DAYLIGHT
TZOFFSETFROM:-0800
TZOFFSETTO:-0700
TZNAME:PDT
DTSTART:20270314T100000
END:DAYLIGHT
BEGIN:STANDARD
TZOFFSETFROM:-0700
TZOFFSETTO:-0800
TZNAME:PST
DTSTART:20271107T090000
END:STANDARD
END:VTIMEZONE
BEGIN:VEVENT
DTSTART;TZID=America/Los_Angeles:20260418T090000
DTEND;TZID=America/Los_Angeles:20260418T130000
DTSTAMP:20260421T152211
CREATED:20260312T200734Z
LAST-MODIFIED:20260312T200734Z
UID:10000008-1776502800-1776517200@lindseyhorvath.lacounty.gov
SUMMARY:Free Disposal Day
DESCRIPTION:Take advantage of Sunshine Canyon Landfill’s FREE Disposal Day!\nResidents in the unincorporated communities of Sunland\, Kagel Canyon\, Lopez\nCanyon\, West Chatsworth\, West Hills\, Oat Mountain/Twin Lakes\, and Lake Manor\ncan drop off up to one ton of trash such as furniture\, appliances\, and other bulky\nitems at Sunshine Canyon Landfill. \nREQUIRED: Proof of Residency in unincorporated LA County communities listed above. \nDATE: Saturday\, April 18\, 2026 \nTIME: 9AM-1PM \nAddress: Sunshine Canyon Landfill\, 14747 San Fernando Road\, Sylmar CA 91342
URL:https://lindseyhorvath.lacounty.gov/event/free-disposal-day/
LOCATION:Sunshine Canyon Landfill\, 14747 Sunshine Canyon Rd\, Granada Hills\, CA\, 91344\, United States
CATEGORIES:SD3 Partner Event
ORGANIZER;CN="Office of Supervisor Lindsey P. Horvath":MAILTO:thirddistrict@bos.lacounty.gov
END:VEVENT
BEGIN:VEVENT
DTSTART;TZID=America/Los_Angeles:20260418T090000
DTEND;TZID=America/Los_Angeles:20260418T120000
DTSTAMP:20260421T152211
CREATED:20260304T195417Z
LAST-MODIFIED:20260324T172138Z
UID:10000007-1776502800-1776513600@lindseyhorvath.lacounty.gov
SUMMARY:Topanga Evacuation Drill
DESCRIPTION:On Saturday\, April 18\, Topanga Canyon will be conducting an Evacuation Drill for All Residents. Find your zone. \nThe Topanga Evacuation Drill is a community-wide event for emergency preparedness. \nTopanga\, with a population of about 10\,000 is an extremely dangerous place for a wildfire due to high amounts of natural fuel\, thousands of homes\, and hard-to-access narrow winding mountain roads. \nThese conditions make it one of the hardest areas in Southern California to defend\, according to the Los Angeles County Fire Department.\nFull evacuation on short notice would be almost impossible\, making preparation and early warnings critical for every resident. \nTopanga Canyon Blvd will\nNOT be closed in either\ndirection for this Drill. \nEach time we run one of these drills LA County first responders refine their wildfire response plans based on your feedback and participation. \nWe are asking for all residents to take this opportunity to practice evacuating the area and check-in at the staging area. \nAll residents in the Canyon are encouraged to visit the check-in area King Gilette Ranch where you can get additional emergency information and resources. \nThe Drill begins at 9:00 AM with a test message from Alert LA County. \nAll residents are invited to visit the check-in station at King Gillette Ranch  \n  \nThere will be an informational Zoom meeting BEFORE the actual Evacuation Drill on March 24\, 2026. Register here or visit tcep.org/emergencystatus for details or questions about the Evacuation Drill. \nDATE: April 18\, 2026 \nEVACUATION ADDRESS: King Gilette Ranch\, 26800 Mulholland Highway\, Calabasas CA 91302 \nTIME: 9AM-12PM \nThis event is sponsored by the Office of Lindsey Horvath in partnership with LA County Fire\, LA County Sheriff-Lost Hills\, LA County Office of Emergency Management (OEM)\, Topanga Coalition for Emergency Preparedness (TCEP)\, and California Highway Patrol (CHP).
URL:https://lindseyhorvath.lacounty.gov/event/topanga-evacuation-drill/
LOCATION:King Gilette Ranch\, 26800 Mulholland Hwy\, Calabasas\, CA\, 91302\, United States
CATEGORIES:SD3 Official Event
ORGANIZER;CN="Office of Supervisor Lindsey P. Horvath":MAILTO:thirddistrict@bos.lacounty.gov
END:VEVENT
BEGIN:VEVENT
DTSTART;TZID=America/Los_Angeles:20260410T180000
DTEND;TZID=America/Los_Angeles:20260410T200000
DTSTAMP:20260421T152211
CREATED:20260331T225935Z
LAST-MODIFIED:20260331T225953Z
UID:10000009-1775844000-1775851200@lindseyhorvath.lacounty.gov
SUMMARY:Keep Families Together Public Comment Party
DESCRIPTION:WHAT: The federal administration has a proposed HUD rule that would potentially evict mixed status households and immigrant families from public housing. Join us to submit comments against this rule and make your voice heard to the federal government. \nWHERE: Beaches WeHo\, upstairs room. \nWHEN: Presentation + Teach-In at 6p\, Letter Writing until 8pm \nWHO: Hosted by the Office of Supervisor Lindsey Horvath and The Rent Brigade
URL:https://lindseyhorvath.lacounty.gov/event/keep-families-together-public-comment-party/
LOCATION:Beaches WeHo\, 8928 Santa Monica Blvd\, West Hollywood\, CA\, 90069\, United States
CATEGORIES:SD3 Official Event
ORGANIZER;CN="Office of Supervisor Lindsey P. Horvath":MAILTO:thirddistrict@bos.lacounty.gov
END:VEVENT
BEGIN:VEVENT
DTSTART;TZID=America/Los_Angeles:20260207T090000
DTEND;TZID=America/Los_Angeles:20260207T140000
DTSTAMP:20260421T152211
CREATED:20260207T005422Z
LAST-MODIFIED:20260207T005607Z
UID:10000006-1770454800-1770472800@lindseyhorvath.lacounty.gov
SUMMARY:Ready Together SFV Emergency Preparedness Event
DESCRIPTION:Join the Office of Supervisor Lindsey Horvath for an emergency preparedness event where neighbors can learn\, connect\, and get equipped. \nWith wildfire season\, earthquakes\, and extreme heat on our minds\, now is the time to make sure our families and communities are ready. \nThis family-friendly event brings together first responders\, County and City public safety organizations\, utilities\, nonprofits\, and residents. Learn from experts about earthquakes\, wildfires\, home hardening\, insurance preparedness\, and evacuation planning. Stock up on essential supplies\, meet your neighbors\, and leave feeling prepared! \nDATE & TIME: Saturday\, February 7\, 2026 | 9 AM – 2 PM PDT \nLOCATION: LA Mission College\, Campus Center | 13356 Eldridge Ave\, Sylmar CA 91324 \nAdmission is FREE! Registration helps us plan ahead — please RSVP at this Eventbrite link. \nPARKING & TRANSPORTATION: Free parking is available in the parking structure off of Eldrige Ave. Follow signage to the Campus Center from there. Public Transit Access is available from the Metro 92\, 93 and 94 bus lines\, as well as the Sylmar DASH. \nBrought to you by the Office of Lindsey Horvath\, and sponsored by LA Mission College.\nFOLLOW Supervisor Horvath on Instagram & X | @LindseyPHorvath 
URL:https://lindseyhorvath.lacounty.gov/event/ready-together-sfv-emergency-preparedness-event/
LOCATION:LA Mission College\, 13356 Eldridge Ave\, Sylmar\, CA\, 91342\, United States
CATEGORIES:SD3 Official Event
ORGANIZER;CN="Office of Supervisor Lindsey P. Horvath":MAILTO:thirddistrict@bos.lacounty.gov
END:VEVENT
BEGIN:VEVENT
DTSTART;TZID=America/Los_Angeles:20260110T113000
DTEND;TZID=America/Los_Angeles:20260110T150000
DTSTAMP:20260421T152211
CREATED:20251205T222147Z
LAST-MODIFIED:20260105T223344Z
UID:10000005-1768044600-1768057200@lindseyhorvath.lacounty.gov
SUMMARY:Community Rising Picnic
DESCRIPTION:  \n \nJoin Supervisor Lindsey Horvath\,  Pepperdine University\, and the City of Malibu for our Community Rising Picnic at Pepperdine University. \nOne year after the Palisades Fire\, this gathering celebrates the strength\, resilience\, and spirit of our community. All neighbors impacted by the fire are welcome to come together for an afternoon of food\, healing arts\, music\, and reflection—a time to connect\, support one another\, and honor the ways our community continues to rise.\n\nDATE & TIME: Saturday\, January 10th\, 2026 | 11:30AM-3PM \nLOCATION: Pepperdine University \nAdmission is FREE! Registration helps us plan ahead — please RSVP at the Eventbrite link. This event is family friendly. \nPARKING & TRANSPORTATION: Parking is available at the Seaver Main lot\, first come first serve. Additional parking available in the Theme Tower Lot. If you require ADA accomodation\, let us know when you RSVP at this link! \nBrought to you by the Office of Lindsey Horvath\, the City of Malibu\, and Pepperdine University.\nFOLLOW Supervisor Horvath on Instagram & X | @LindseyPHorvath
URL:https://lindseyhorvath.lacounty.gov/event/community-rising-picnic/
LOCATION:Pepperdine University\, 24255 Pacific Coast Hwy\, Malibu\, CA\, 90263\, United States
ORGANIZER;CN="Office of Supervisor Lindsey P. Horvath":MAILTO:thirddistrict@bos.lacounty.gov
END:VEVENT
BEGIN:VEVENT
DTSTART;TZID=America/Los_Angeles:20251126T090000
DTEND;TZID=America/Los_Angeles:20251126T120000
DTSTAMP:20260421T152211
CREATED:20251114T213058Z
LAST-MODIFIED:20251114T225716Z
UID:10000004-1764147600-1764158400@lindseyhorvath.lacounty.gov
SUMMARY:SD3 Food Distribution Drive-Through
DESCRIPTION:Join the Office of Supervisor Lindsey Horvath for a food distribution event in partnership with the LA Regional Food Bank and the San Fernando Swap Meet. \nWith the delay in SNAP benefits due to the federal government shutdown earlier this month\, families are facing yet another hurdle after a tough year. This will be a drive-through  \nThis family-friendly event brings together first responders\, County and City public safety organizations\, utilities\, nonprofits\, and residents. Learn from experts about earthquakes\, wildfires\, home hardening\, insurance preparedness\, and evacuation planning. Stock up on essential supplies\, meet your neighbors\, and leave feeling prepared! \nDATE & TIME: Wednesday\, November 26\, 2025 | 9 AM – 12 PM PDT \nLOCATION: San Fernando Swap Meet\, 585 Glenoaks Blvd\, San Fernando\, CA 91340 \nAdmission is FREE! \nBrought to you by the Office of Lindsey Horvath\, in partnership with LA Regional Food Bank and the San Fernando Swap Meet.\nFOLLOW Supervisor Horvath on Instagram & X | @LindseyPHorvath 
URL:https://lindseyhorvath.lacounty.gov/event/food-distribution-san-fernando/
LOCATION:San Fernando Swap Meet\, 585 Glenoaks Blvd\, San Fernando\, CA\, 91340\, United States
CATEGORIES:SD3 Official Event
ORGANIZER;CN="Office of Supervisor Lindsey P. Horvath":MAILTO:thirddistrict@bos.lacounty.gov
END:VEVENT
BEGIN:VEVENT
DTSTART;TZID=America/Los_Angeles:20251116T090000
DTEND;TZID=America/Los_Angeles:20251116T140000
DTSTAMP:20260421T152211
CREATED:20250912T013925Z
LAST-MODIFIED:20251023T004104Z
UID:10000003-1763283600-1763301600@lindseyhorvath.lacounty.gov
SUMMARY:Get Ready Stay Ready Emergency Preparedness Event
DESCRIPTION:Join the Office of Supervisor Lindsey Horvath for an emergency preparedness event where neighbors can learn\, connect\, and get equipped. \nWith wildfire season\, earthquakes\, and extreme heat on our minds\, now is the time to make sure our families and communities are ready. \nThis family-friendly event brings together first responders\, County and City public safety organizations\, utilities\, nonprofits\, and residents. Learn from experts about earthquakes\, wildfires\, home hardening\, insurance preparedness\, and evacuation planning. Stock up on essential supplies\, meet your neighbors\, and leave feeling prepared! \nDATE & TIME: Sunday\, November 16\, 2025 | 9 AM – 2 PM PDT \nLOCATION: Skirball Cultural Center\, 2701 N. Sepulveda Blvd\, Los Angeles CA 90049 \nAdmission is FREE! Registration helps us plan ahead — please RSVP at this Eventbrite link. \nPARKING & TRANSPORTATION: Free parking is available at the North lot of the Skirball Center. Public Transit Access is available from the Metro 761 bus line. \nBrought to you by the Office of Lindsey Horvath\, and sponsored by LA CD11 and LACD4.\nFOLLOW Supervisor Horvath on Instagram & X | @LindseyPHorvath 
URL:https://lindseyhorvath.lacounty.gov/event/westside-emergency-preparedness-event/
LOCATION:Skirball Cultural Center\, 2701 N Sepulveda Blvd\, Los Angeles\, 90049\, United States
CATEGORIES:SD3 Official Event
ORGANIZER;CN="Office of Supervisor Lindsey P. Horvath":MAILTO:thirddistrict@bos.lacounty.gov
END:VEVENT
BEGIN:VEVENT
DTSTART;TZID=America/Los_Angeles:20251101T100000
DTEND;TZID=America/Los_Angeles:20251101T150000
DTSTAMP:20260421T152211
CREATED:20250912T013620Z
LAST-MODIFIED:20251028T225353Z
UID:10000002-1761991200-1762009200@lindseyhorvath.lacounty.gov
SUMMARY:Calabasas Emergency Preparedness Event
DESCRIPTION:Join the Office of Supervisor Lindsey Horvath and Assemblymember Jacqui Irwin for an emergency preparedness event where neighbors can learn\, connect\, and get equipped. \nWith wildfire season\, earthquakes\, and extreme heat on our minds\, now is the time to make sure our families and communities are ready. \nThis family-friendly event brings together first responders\, public safety organizations\, utilities\, nonprofits\, emergency gear vendors\, and residents. Learn from experts about Red Flag Warnings\, wildfire behavior\, home hardening\, insurance preparedness\, and evacuation planning. Stock up on essential supplies\, meet your neighbors\, and leave feeling prepared. \nDATE & TIME: Saturday\, November 1\, 2025 | 10 AM – 1 PM PDT \nLOCATION: Calabasas Community Center\, 27040 Malibu Hills Road\, Calabasas 91302 \nAdmission is FREE! \nPARKING & TRANSPORTATION: Parking is available onsite! \nBrought to you by Assemblymember Jacqui Irwin’s Office\, in partnership with the Office of Lindsey Horvath.\nFOLLOW Asm. Irwin and Supervisor Horvath on Instagram & X | @AsmIrwin | @Lindsey P Horvath 
URL:https://lindseyhorvath.lacounty.gov/event/calabasas-emergency-preparedness-event/
LOCATION:Calabasas Community Center\, 27040 Malibu Hills Road\, Calabasas\, 91301\, United States
CATEGORIES:SD3 Partner Event
ORGANIZER;CN="Office of Supervisor Lindsey P. Horvath":MAILTO:thirddistrict@bos.lacounty.gov
END:VEVENT
BEGIN:VEVENT
DTSTART;TZID=America/Los_Angeles:20251004T100000
DTEND;TZID=America/Los_Angeles:20251004T160000
DTSTAMP:20260421T152211
CREATED:20250911T223809Z
LAST-MODIFIED:20250911T223809Z
UID:10000001-1759572000-1759593600@lindseyhorvath.lacounty.gov
SUMMARY:ReadyFest Topanga
DESCRIPTION:Come to ReadyFest Topanga’s Emergency Preparedness Fair\, and find out. This family-friendly event brings together first responders\, public safety organizations\, utilities\, nonprofits\, emergency gear vendors\, and residents. Learn from experts about Red Flag Warnings\, wildfire behavior\, home hardening\, insurance preparedness\, and evacuation planning. Get or renew your Topanga Access Card\, stock up on essential supplies\, and connect with volunteer groups like TCEP\, CERT\, and Arson Watch. There will be food\, music\, and fun activities for the kids. The more prepared we are\, the stronger our community becomes! \nDATE & TIME: Saturday\, October 4\, 2025 | 10 AM – 4 PM PDT \nLOCATION: Topanga Community Center\, 1440 North Topanga Canyon Blvd\, Topanga\, CA 90290 \nTICKETS: Get your tickets at the Official Eventbrite Page. Note: Tickets are not required\, but encouraged for our planning.  \nAT THIS FAMILY-FRIENDLY EVENT YOU CAN:\n\nCelebrate Smokey Bear’s 81st birthday\nExperience an Earthquake Simulator and feel what a real quake is like\nMeet LA County first responders and get an up-close look at their vehicles and equipment\nLearn from experts about Red Flag Warnings\, fire behavior\, home hardening\, and insurance preparedness\nGet your Topanga Access Card on the spot\nStock up on essential emergency supplies\nUnderstand Ready! Set! Go! and build your evacuation plan\nDiscover how you can help Topanga remain a Firewise Community\nConnect with Topanga’s volunteer organizations and find out how to get involved\nPlus food\, music\, and plenty of fun activities for the kids!\n\nSelected Highlights\nHere’s a sampling of what you’ll learn at ReadyFest\n\nHow experts predict Red Flag events and get warnings to our community\nProven ways to harden your home against embers in the Wildland Urban Intermix (WUI)\nBackup power solutions that fit every budget\nThe safest evacuation strategies for leaving the canyon\nSteps to prepare for a Shelter-in-Place order\nHow to build strong Neighborhood Networks with TCEP’s guidance\nWhat you need to do now in today’s changing insurance market\n\nALL residents of Topanga and neighboring communities are welcome. The more prepared you are\, the stronger our community becomes! \nAdmission is FREE! Registering helps us plan a better event. All Topanga residents and neighbors are welcome—because the more prepared we are\, the stronger our community becomes! \nPARKING & TRANSPORTATION: Free shuttles will run throughout the day along Topanga Canyon Blvd (TCB) for your convenience. Fair parking is available along TCB — please make sure all tires are inside the white fog lines. The TCC lot is reserved for Sages and Accessible parking only. Hop on a shuttle and enjoy a stress-free ride to the event! \nBrought to you by the Topanga Emergency Management Task Force\, in partnership with the Office of Lindsey Horvath\, Los Angeles County Office of Emergency Management\, and the Topanga Coalition for Emergency Preparedness (TCEP).\nFOLLOW TCEP on Instagram & X @TCEP90290 to stay informed about ReadyFest!
URL:https://lindseyhorvath.lacounty.gov/event/event-readyfest-topanga/
LOCATION:Topanga Community Center\, 1440 North Topanga Canyon Boulevard\, Topanga\, 90290\, United States
CATEGORIES:SD3 Official Event
ATTACH;FMTTYPE=image/png:https://lindseyhorvath.lacounty.gov/wp-content/uploads/2025/09/ReadyFest-Eventbrite-Header.png
ORGANIZER;CN="Office of Supervisor Lindsey P. Horvath":MAILTO:thirddistrict@bos.lacounty.gov
END:VEVENT
END:VCALENDAR