BEGIN:VCALENDAR
VERSION:2.0
PRODID:-//Supervisor Lindsey P. Horvath - ECPv6.15.20//NONSGML v1.0//EN
CALSCALE:GREGORIAN
METHOD:PUBLISH
X-WR-CALNAME:Supervisor Lindsey P. Horvath
X-ORIGINAL-URL:https://lindseyhorvath.lacounty.gov
X-WR-CALDESC:Events for Supervisor Lindsey P. Horvath
REFRESH-INTERVAL;VALUE=DURATION:PT1H
X-Robots-Tag:noindex
X-PUBLISHED-TTL:PT1H
BEGIN:VTIMEZONE
TZID:America/Los_Angeles
BEGIN:DAYLIGHT
TZOFFSETFROM:-0800
TZOFFSETTO:-0700
TZNAME:PDT
DTSTART:20240310T100000
END:DAYLIGHT
BEGIN:STANDARD
TZOFFSETFROM:-0700
TZOFFSETTO:-0800
TZNAME:PST
DTSTART:20241103T090000
END:STANDARD
BEGIN:DAYLIGHT
TZOFFSETFROM:-0800
TZOFFSETTO:-0700
TZNAME:PDT
DTSTART:20250309T100000
END:DAYLIGHT
BEGIN:STANDARD
TZOFFSETFROM:-0700
TZOFFSETTO:-0800
TZNAME:PST
DTSTART:20251102T090000
END:STANDARD
BEGIN:DAYLIGHT
TZOFFSETFROM:-0800
TZOFFSETTO:-0700
TZNAME:PDT
DTSTART:20260308T100000
END:DAYLIGHT
BEGIN:STANDARD
TZOFFSETFROM:-0700
TZOFFSETTO:-0800
TZNAME:PST
DTSTART:20261101T090000
END:STANDARD
END:VTIMEZONE
BEGIN:VEVENT
DTSTART;TZID=America/Los_Angeles:20251101T100000
DTEND;TZID=America/Los_Angeles:20251101T150000
DTSTAMP:20260421T160417
CREATED:20250912T013620Z
LAST-MODIFIED:20251028T225353Z
UID:10000002-1761991200-1762009200@lindseyhorvath.lacounty.gov
SUMMARY:Calabasas Emergency Preparedness Event
DESCRIPTION:Join the Office of Supervisor Lindsey Horvath and Assemblymember Jacqui Irwin for an emergency preparedness event where neighbors can learn\, connect\, and get equipped. \nWith wildfire season\, earthquakes\, and extreme heat on our minds\, now is the time to make sure our families and communities are ready. \nThis family-friendly event brings together first responders\, public safety organizations\, utilities\, nonprofits\, emergency gear vendors\, and residents. Learn from experts about Red Flag Warnings\, wildfire behavior\, home hardening\, insurance preparedness\, and evacuation planning. Stock up on essential supplies\, meet your neighbors\, and leave feeling prepared. \nDATE & TIME: Saturday\, November 1\, 2025 | 10 AM – 1 PM PDT \nLOCATION: Calabasas Community Center\, 27040 Malibu Hills Road\, Calabasas 91302 \nAdmission is FREE! \nPARKING & TRANSPORTATION: Parking is available onsite! \nBrought to you by Assemblymember Jacqui Irwin’s Office\, in partnership with the Office of Lindsey Horvath.\nFOLLOW Asm. Irwin and Supervisor Horvath on Instagram & X | @AsmIrwin | @Lindsey P Horvath 
URL:https://lindseyhorvath.lacounty.gov/event/calabasas-emergency-preparedness-event/
LOCATION:Calabasas Community Center\, 27040 Malibu Hills Road\, Calabasas\, 91301\, United States
CATEGORIES:SD3 Partner Event
ORGANIZER;CN="Office of Supervisor Lindsey P. Horvath":MAILTO:thirddistrict@bos.lacounty.gov
END:VEVENT
END:VCALENDAR