BEGIN:VCALENDAR
VERSION:2.0
PRODID:-//Supervisor Lindsey P. Horvath - ECPv6.15.20//NONSGML v1.0//EN
CALSCALE:GREGORIAN
METHOD:PUBLISH
X-ORIGINAL-URL:https://lindseyhorvath.lacounty.gov
X-WR-CALDESC:Events for Supervisor Lindsey P. Horvath
REFRESH-INTERVAL;VALUE=DURATION:PT1H
X-Robots-Tag:noindex
X-PUBLISHED-TTL:PT1H
BEGIN:VTIMEZONE
TZID:America/Los_Angeles
BEGIN:DAYLIGHT
TZOFFSETFROM:-0800
TZOFFSETTO:-0700
TZNAME:PDT
DTSTART:20240310T100000
END:DAYLIGHT
BEGIN:STANDARD
TZOFFSETFROM:-0700
TZOFFSETTO:-0800
TZNAME:PST
DTSTART:20241103T090000
END:STANDARD
BEGIN:DAYLIGHT
TZOFFSETFROM:-0800
TZOFFSETTO:-0700
TZNAME:PDT
DTSTART:20250309T100000
END:DAYLIGHT
BEGIN:STANDARD
TZOFFSETFROM:-0700
TZOFFSETTO:-0800
TZNAME:PST
DTSTART:20251102T090000
END:STANDARD
BEGIN:DAYLIGHT
TZOFFSETFROM:-0800
TZOFFSETTO:-0700
TZNAME:PDT
DTSTART:20260308T100000
END:DAYLIGHT
BEGIN:STANDARD
TZOFFSETFROM:-0700
TZOFFSETTO:-0800
TZNAME:PST
DTSTART:20261101T090000
END:STANDARD
END:VTIMEZONE
BEGIN:VEVENT
DTSTART;TZID=America/Los_Angeles:20251116T090000
DTEND;TZID=America/Los_Angeles:20251116T140000
DTSTAMP:20260425T070943
CREATED:20250912T013925Z
LAST-MODIFIED:20251023T004104Z
UID:10000003-1763283600-1763301600@lindseyhorvath.lacounty.gov
SUMMARY:Get Ready Stay Ready Emergency Preparedness Event
DESCRIPTION:Join the Office of Supervisor Lindsey Horvath for an emergency preparedness event where neighbors can learn\, connect\, and get equipped. \nWith wildfire season\, earthquakes\, and extreme heat on our minds\, now is the time to make sure our families and communities are ready. \nThis family-friendly event brings together first responders\, County and City public safety organizations\, utilities\, nonprofits\, and residents. Learn from experts about earthquakes\, wildfires\, home hardening\, insurance preparedness\, and evacuation planning. Stock up on essential supplies\, meet your neighbors\, and leave feeling prepared! \nDATE & TIME: Sunday\, November 16\, 2025 | 9 AM – 2 PM PDT \nLOCATION: Skirball Cultural Center\, 2701 N. Sepulveda Blvd\, Los Angeles CA 90049 \nAdmission is FREE! Registration helps us plan ahead — please RSVP at this Eventbrite link. \nPARKING & TRANSPORTATION: Free parking is available at the North lot of the Skirball Center. Public Transit Access is available from the Metro 761 bus line. \nBrought to you by the Office of Lindsey Horvath\, and sponsored by LA CD11 and LACD4.\nFOLLOW Supervisor Horvath on Instagram & X | @LindseyPHorvath 
URL:https://lindseyhorvath.lacounty.gov/event/westside-emergency-preparedness-event/
LOCATION:Skirball Cultural Center\, 2701 N Sepulveda Blvd\, Los Angeles\, 90049\, United States
CATEGORIES:SD3 Official Event
ORGANIZER;CN="Office of Supervisor Lindsey P. Horvath":MAILTO:thirddistrict@bos.lacounty.gov
END:VEVENT
END:VCALENDAR